BEGIN:VCALENDAR
VERSION:2.0
PRODID:-//Condamine Campers - ECPv5.3.2.1//NONSGML v1.0//EN
CALSCALE:GREGORIAN
METHOD:PUBLISH
X-WR-CALNAME:Condamine Campers
X-ORIGINAL-URL:https://new.condaminecampers.com.au
X-WR-CALDESC:Events for Condamine Campers
BEGIN:VTIMEZONE
TZID:Australia/Melbourne
BEGIN:STANDARD
TZOFFSETFROM:+1100
TZOFFSETTO:+1000
TZNAME:AEST
DTSTART:20210403T160000
END:STANDARD
BEGIN:DAYLIGHT
TZOFFSETFROM:+1000
TZOFFSETTO:+1100
TZNAME:AEDT
DTSTART:20211002T160000
END:DAYLIGHT
END:VTIMEZONE
BEGIN:VEVENT
DTSTART;VALUE=DATE:20210305
DTEND;VALUE=DATE:20210308
DTSTAMP:20210226T165806
CREATED:20201201T060010Z
LAST-MODIFIED:20201201T060037Z
UID:3507-1614902400-1615161599@new.condaminecampers.com.au
SUMMARY:Gold Coast Caravan & Outdoor Expo - 2021
DESCRIPTION:The 2021 Gold Coast Caravan & Outdoor Expo will be back at Metricon Stadium from 5- 7 March\, 2021. The Expo will feature well over one hundred exhibitors who will showcase all the latest models of caravans\, motorhomes\, campervans\, camper/tent trailers and slide-ons plus much\, much more to help you plan your next caravanning or camping holiday adventure. There will be plenty of travel and holiday destination information to help you plan your next journey.
URL:https://new.condaminecampers.com.au/event/gold-coast-caravan-outdoor-expo-2021/
LOCATION:Metricon Stadium\, Nerang-Broadbeach Road\, Carrara\, Queensland\, 4211\, Australia
CATEGORIES:Caravan show
ATTACH;FMTTYPE=image/jpeg:https://new.condaminecampers.com.au/wp-content/uploads/Event_Images/CTIA4923-2021-LetsGoGCExpo_600x150A3.jpg
ORGANIZER;CN="Australian%20Events":MAILTO:office@australianevents.com.au
END:VEVENT
END:VCALENDAR