BEGIN:VCALENDAR
VERSION:2.0
PRODID:-//Condamine Campers - ECPv5.3.2.1//NONSGML v1.0//EN
CALSCALE:GREGORIAN
METHOD:PUBLISH
X-WR-CALNAME:Condamine Campers
X-ORIGINAL-URL:https://new.condaminecampers.com.au
X-WR-CALDESC:Events for Condamine Campers
BEGIN:VTIMEZONE
TZID:Australia/Brisbane
BEGIN:STANDARD
TZOFFSETFROM:+1000
TZOFFSETTO:+1000
TZNAME:AEST
DTSTART:20210101T000000
END:STANDARD
END:VTIMEZONE
BEGIN:VEVENT
DTSTART;VALUE=DATE:20210602
DTEND;VALUE=DATE:20210608
DTSTAMP:20210226T170406
CREATED:20210217T024443Z
LAST-MODIFIED:20210217T024523Z
UID:3597-1622592000-1623110399@new.condaminecampers.com.au
SUMMARY:Brisbane Caravan & Camping Supershow - 2021
DESCRIPTION:
URL:https://new.condaminecampers.com.au/event/brisbane-caravan-camping-supershow-2021/
LOCATION:Brisbane Showgrounds\, 600 Gregory Terrace\, Brisbane\, Qld\, 4006\, Australia
CATEGORIES:Caravan show
ATTACH;FMTTYPE=image/jpeg:https://new.condaminecampers.com.au/wp-content/uploads/2021/02/CTIA4923-2021-LetsGoSupershow_600x150A3.jpg
ORGANIZER;CN="Caravaning%20Queensland":MAILTO:info@caravanqld.com.au
END:VEVENT
END:VCALENDAR